BEGIN:VCALENDAR
VERSION:2.0
PRODID:-//wp-events-plugin.com//6.6.3//EN
TZID:Europe/Berlin
X-WR-TIMEZONE:Europe/Berlin
BEGIN:VEVENT
UID:0-134@unser-quartier.de
DTSTART;TZID=Europe/Berlin:20181006T090000
DTEND;TZID=Europe/Berlin:20181006T180000
DTSTAMP:20180908T161211Z
URL:https://unser-quartier.de/oberhausen/events/das-alter-ist-bunt/
SUMMARY:Das Alter ist bunt
DESCRIPTION:Es dreht sich alles um das Thema "Älter werden"\nSie finden un
 s "aktiv altern in um Oberhausen"\nam Stand der Bundesinteressenvertretung
  für alte und  pflegebetroffene Menschen e.V.
CATEGORIES:Messen
LOCATION:BERO-Einkaufszentrum\, Concordiastr. 32\, Oberhausen\, 46049\, Deu
 tschland
GEO:51.47430060000001;6.842544299999986
X-APPLE-STRUCTURED-LOCATION;VALUE=URI;X-ADDRESS=Concordiastr. 32\, Oberhaus
 en\, 46049\, Deutschland;X-APPLE-RADIUS=100;X-TITLE=BERO-Einkaufszentrum:g
 eo:51.47430060000001,6.842544299999986
END:VEVENT
BEGIN:VTIMEZONE
TZID:Europe/Berlin
X-LIC-LOCATION:Europe/Berlin
BEGIN:DAYLIGHT
DTSTART:20180325T030000
TZOFFSETFROM:+0100
TZOFFSETTO:+0200
TZNAME:CEST
END:DAYLIGHT
END:VTIMEZONE
END:VCALENDAR