BEGIN:VCALENDAR
VERSION:2.0
PRODID:-//wp-events-plugin.com//6.6.3//EN
TZID:Europe/Berlin
X-WR-TIMEZONE:Europe/Berlin
BEGIN:VEVENT
UID:0-609@unser-quartier.de
DTSTART;TZID=Europe/Berlin:20201005T103000
DTEND;TZID=Europe/Berlin:20201008T131500
DTSTAMP:20200719T141608Z
URL:https://unser-quartier.de/oberhausen/events/das-prinzip-nachhaltigkeit
 /
SUMMARY:Das Prinzip Nachhaltigkeit
DESCRIPTION:Perspektiven\, Möglichkeiten und Grenzen eines nachhaltigen Le
 bens\nSeminar-Nr  20.6.561  in Kooperation mit der Landesseniorenvertret
 ung NRW\nKosten 175 €uro\nBitte beachten Sie\, der angezeigte Ort ist ni
 cht korrekt\, er liegt am Rhein.\nAnmeldung und weitere Info
CATEGORIES:Fort- und Weiterbildung,Vorträge / Diskussionen
LOCATION:Arbeitnehmer-Zentrum Königswinter (AZK)\, Johannes-Albers-Allee 3
 \, Königswinter\, NRW\, 53639\, Rhein-Sieg\, 
GEO:50.685923;7.182941
X-APPLE-STRUCTURED-LOCATION;VALUE=URI;X-ADDRESS=Johannes-Albers-Allee 3\, K
 önigswinter\, NRW\, 53639\, Rhein-Sieg\, ;X-APPLE-RADIUS=100;X-TITLE=Arbe
 itnehmer-Zentrum Königswinter (AZK):geo:50.685923,7.182941
END:VEVENT
BEGIN:VTIMEZONE
TZID:Europe/Berlin
X-LIC-LOCATION:Europe/Berlin
BEGIN:DAYLIGHT
DTSTART:20200329T030000
TZOFFSETFROM:+0100
TZOFFSETTO:+0200
TZNAME:CEST
END:DAYLIGHT
END:VTIMEZONE
END:VCALENDAR