BEGIN:VCALENDAR
VERSION:2.0
PRODID:-//wp-events-plugin.com//6.6.3//EN
TZID:Europe/Berlin
X-WR-TIMEZONE:Europe/Berlin
BEGIN:VEVENT
UID:0-644@unser-quartier.de
DTSTART;TZID=Europe/Berlin:20220919T140000
DTEND;TZID=Europe/Berlin:20220922T150000
DTSTAMP:20220524T094540Z
URL:https://unser-quartier.de/oberhausen/events/der-bewohnerbeirat/
SUMMARY:ABGESAGT - Der Bewohnerbeirat -
DESCRIPTION:Liebe Interessierte\,\nAlle sprechen von den hohen Heimentgelte
 n. Der Notstand in der Pflege und die Pandemie tragen zur weiteren Kostens
 teigerung bei. Betroffene Bewohner*innen und Angehörige fühlen sich mach
 t- und schutzlos den Entgelterhöhungen ausgesetzt. Die gewählte Bewohner
 *innenvertretung ist oft unbekannt. Wenige kennen die gesetzlich verbrieft
 en Rechte der Nutzer- oder Heimbeiräte. Wenige Wissen:\nNur mit der Unter
 schrift des Bewohnerbeirates kann die Einrichtung mit der Pflegekasse neue
  Entgelterhöhungen vereinbaren. \nIm Seminar werden die Schritte der Mit
 wirkungsrechte der gewählten Interessenvertretung vom Eingang des Erhöhu
 ngsverlangen bis zur Entgeltverhandlung mit den Teilnehmern erarbeitet.\nZ
 ielgruppe: Gewählte Bewohner*innenbeiräte\, engagierte Mitglieder aus So
 zialverbänden\, Vertreter*innen aus Seniorenbeiräten sowie Interessierte
  und Multiplikator*innen\, die sich mit dem Thema Interessenvertretung in 
 Pflegeeinrichtungen befassen.
CATEGORIES:Fort- und Weiterbildung,Vorträge / Diskussionen
LOCATION:Johannes-Albers-Bildungsforum\, Johannes-Albers-Allee 3\, Königsw
 inter\, 53639\, Deutschland
GEO:50.685923;7.182941
X-APPLE-STRUCTURED-LOCATION;VALUE=URI;X-ADDRESS=Johannes-Albers-Allee 3\, K
 önigswinter\, 53639\, Deutschland;X-APPLE-RADIUS=100;X-TITLE=Johannes-Alb
 ers-Bildungsforum:geo:50.685923,7.182941
END:VEVENT
BEGIN:VTIMEZONE
TZID:Europe/Berlin
X-LIC-LOCATION:Europe/Berlin
BEGIN:DAYLIGHT
DTSTART:20220327T030000
TZOFFSETFROM:+0100
TZOFFSETTO:+0200
TZNAME:CEST
END:DAYLIGHT
END:VTIMEZONE
END:VCALENDAR