BEGIN:VCALENDAR
VERSION:2.0
PRODID:-//wp-events-plugin.com//6.6.3//EN
TZID:Europe/Berlin
X-WR-TIMEZONE:Europe/Berlin
BEGIN:VEVENT
UID:0-425@unser-quartier.de
DTSTART;TZID=Europe/Berlin:20190911T160000
DTEND;TZID=Europe/Berlin:20190911T173000
DTSTAMP:20190215T151712Z
URL:https://unser-quartier.de/oberhausen/events/pflege-und-dann-2/
SUMMARY:Pflege und dann ....
DESCRIPTION:\nWas verbirgt sich hinter den Pflegegraden vom Antrag bis zur 
 Bewilligung\n\nDie ehrenamtlichen Regionalbeauftragten des Pflegeschutzbun
 des BIVA für Oberhausen/Mülheim\, Eheleute Heidrun &amp\; Siegfried Räb
 iger\, laden in Kooperation mit der Feldmann-Stiftung zu einer weiteren ko
 stenlosen Vortragsreihe mit Diskussion und Erfahrungsaustausch\, in den Se
 minarraum im Fachwerkhaus\, 1. Etage\, ein.\n&nbsp\;
CATEGORIES:Fort- und Weiterbildung,Vorträge / Diskussionen
LOCATION:Feldmann-Stiftung\, Augustastr. 114\, Mülheim\, 45476\, Styrum\, 
 Deutschland
GEO:51.4544231;6.8630743999999595
X-APPLE-STRUCTURED-LOCATION;VALUE=URI;X-ADDRESS=Augustastr. 114\, Mülheim\
 , 45476\, Styrum\, Deutschland;X-APPLE-RADIUS=100;X-TITLE=Feldmann-Stiftun
 g:geo:51.4544231,6.8630743999999595
END:VEVENT
BEGIN:VTIMEZONE
TZID:Europe/Berlin
X-LIC-LOCATION:Europe/Berlin
BEGIN:DAYLIGHT
DTSTART:20190331T030000
TZOFFSETFROM:+0100
TZOFFSETTO:+0200
TZNAME:CEST
END:DAYLIGHT
END:VTIMEZONE
END:VCALENDAR