BEGIN:VCALENDAR
VERSION:2.0
PRODID:-//wp-events-plugin.com//6.6.3//EN
TZID:Europe/Berlin
X-WR-TIMEZONE:Europe/Berlin
BEGIN:VEVENT
UID:0-623@unser-quartier.de
DTSTART;TZID=Europe/Berlin:20210418T100000
DTEND;TZID=Europe/Berlin:20210418T160000
DTSTAMP:20201217T160435Z
URL:https://unser-quartier.de/oberhausen/events/ruhr-congress-bochum/
SUMMARY:Ruhr Congress Bochum
DESCRIPTION:Es gibt mittlerweile ein nahezu unüberschaubares Angebot an gu
 ten und weniger geeigneten Apps für die eigene Gesundheit. Vor diesem Hin
 tergrund zeigen die Referenten die Chancen von Apps auf und stellen ausgew
 ählte Anwendungen vor. Sie zeigen dabei\, auf was Nutzer bei der Auswahl 
 der richtigen App achten sollten und erläutern\, was mit der „App auf R
 ezept“ auf sich hat.\nMit der Gesundheitsmesse Bochum will das MedQN die
  Vielfältigkeit und das Leistungsspektrum des medizinisch-therapeutischen
  Angebotes des Gesundheitsstandortes Bochum vorstellen. Dabei stehen die P
 rävention\, die Vorbeugung und die Stärkung des Gesundheitsbewusstseins 
 im Vordergrund. Eine abwechslungsreiche Mischung aus Messeständen\, Mitma
 ch-Aktionen und Fachvorträgen macht den besonderen Charakter dieser Messe
  aus.
CATEGORIES:Messen
LOCATION:Ruhr Congress\, Stadionring 20\, Bochum\, NRW\, Deutschland
GEO:51.491243;7.233554
X-APPLE-STRUCTURED-LOCATION;VALUE=URI;X-ADDRESS=Stadionring 20\, Bochum\, N
 RW\, Deutschland;X-APPLE-RADIUS=100;X-TITLE=Ruhr Congress:geo:51.491243,7.
 233554
END:VEVENT
BEGIN:VTIMEZONE
TZID:Europe/Berlin
X-LIC-LOCATION:Europe/Berlin
BEGIN:DAYLIGHT
DTSTART:20210328T030000
TZOFFSETFROM:+0100
TZOFFSETTO:+0200
TZNAME:CEST
END:DAYLIGHT
END:VTIMEZONE
END:VCALENDAR