BEGIN:VCALENDAR
VERSION:2.0
PRODID:-//wp-events-plugin.com//6.6.3//EN
TZID:Europe/Berlin
X-WR-TIMEZONE:Europe/Berlin
BEGIN:VEVENT
UID:0-364@unser-quartier.de
DTSTART;TZID=Europe/Berlin:20180827T110000
DTEND;TZID=Europe/Berlin:20180827T120000
DTSTAMP:20180724T094803Z
URL:https://unser-quartier.de/oberhausen/events/seniorengymnastik-60-5/
SUMMARY:Seniorengymnastik 60+
DESCRIPTION:Gymnastik für Best Ager mit Klein-Geräten.   Unter Anleitun
 g von  Rosemarie Haczkiewicz\,   SC Buschhausen 1912 e.V.\nHandtuch ode
 r Gymnastikmatte mitbringen!\nJeden Montag\, bis 27.08.2018\n&nbsp\;
CATEGORIES:Fort- und Weiterbildung,Gemeinschaftliche Aktivitäten
LOCATION:SSB Sport- und Freizeitanlage\, Lindnerstr. 2\, Oberhausen\, 46047
 \, Deutschland
GEO:51.49381;6.853150000000028
X-APPLE-STRUCTURED-LOCATION;VALUE=URI;X-ADDRESS=Lindnerstr. 2\, Oberhausen\
 , 46047\, Deutschland;X-APPLE-RADIUS=100;X-TITLE=SSB Sport- und Freizeitan
 lage:geo:51.49381,6.853150000000028
END:VEVENT
BEGIN:VTIMEZONE
TZID:Europe/Berlin
X-LIC-LOCATION:Europe/Berlin
BEGIN:DAYLIGHT
DTSTART:20180325T030000
TZOFFSETFROM:+0100
TZOFFSETTO:+0200
TZNAME:CEST
END:DAYLIGHT
END:VTIMEZONE
END:VCALENDAR