BEGIN:VCALENDAR
VERSION:2.0
PRODID:-//wp-events-plugin.com//6.6.3//EN
TZID:Europe/Berlin
X-WR-TIMEZONE:Europe/Berlin
BEGIN:VEVENT
UID:0-630@unser-quartier.de
DTSTART;TZID=Europe/Berlin:20210424T090000
DTEND;TZID=Europe/Berlin:20210424T140000
DTSTAMP:20210106T110823Z
URL:https://unser-quartier.de/oberhausen/events/was-macht-das-bundesamt-fu
 er-bevoelkerungsschutz-bei-katastrophen-und-kriesen/
SUMMARY:Was macht das Bundesamt für Bevölkerungsschutz bei Katastrophen u
 nd Krisen
DESCRIPTION:\nReihe Lernort Krise\, wie funktioniert unser Gesellschaftssys
 tem im Falle einer Katastrophe?\n\nEine wichtige Behörde zur Risikoanalys
 e und Politikberatung\, Defizitaufdeckung und Bevölkerungsvorbereitung au
 f den Katastrophenfall. Wir wollen vor Ort mit den Experten über die Ausw
 irkungen der Coronapandemie\, den daraus folgenden Erkenntnissen und verbu
 ndenen Veränderungen reden. \nAnmeldung\, Information und Leitung\, Frau
  Barbara Kröger\, Arbeit und Leben DGB/VHS. Tel. 0208 825-2830 oder info 
 (at) aul-oberhausen.de\n Gemeinsame Anreise\, Treffpunkt Servicepunkt Hau
 ptbahnhof Oberhausen\, Teilnahmebetrag 25\,00 €
CATEGORIES:Fort- und Weiterbildung,Vorträge / Diskussionen
LOCATION:Bundesamt für Bevölkerungsschutz\, Provinzialstraße 93\, Bonn\,
  53127\, Deutschland
GEO:50.714984;7.068476
X-APPLE-STRUCTURED-LOCATION;VALUE=URI;X-ADDRESS=Provinzialstraße 93\, Bonn
 \, 53127\, Deutschland;X-APPLE-RADIUS=100;X-TITLE=Bundesamt für Bevölker
 ungsschutz:geo:50.714984,7.068476
END:VEVENT
BEGIN:VTIMEZONE
TZID:Europe/Berlin
X-LIC-LOCATION:Europe/Berlin
BEGIN:DAYLIGHT
DTSTART:20210328T030000
TZOFFSETFROM:+0100
TZOFFSETTO:+0200
TZNAME:CEST
END:DAYLIGHT
END:VTIMEZONE
END:VCALENDAR