BEGIN:VCALENDAR
VERSION:2.0
PRODID:-//wp-events-plugin.com//6.6.3//EN
TZID:Europe/Berlin
X-WR-TIMEZONE:Europe/Berlin
BEGIN:VEVENT
UID:0-652@unser-quartier.de
DTSTART;TZID=Europe/Berlin:20221013T100000
DTEND;TZID=Europe/Berlin:20221013T113000
DTSTAMP:20220621T153001Z
URL:https://unser-quartier.de/oberhausen/events/wer-hat-was-zu-sagen-im-so
 zialrathaus/
SUMMARY:Wer hat was zu sagen im Sozialrathaus
DESCRIPTION:Die Stadt hat alle Beratungs- und Transferleistungen an einem O
 Rt gebündelt.\nIn einem Informationsgespräch können Dienstleistungen un
 d Aufgaben der angegliederten Fachabteilungen kennen gelernt werden.\nIn d
 er Diskussion können Probleme und Schwierigkeiten angesprochen werden. An
 meldung bei Arbeit und Leben  DGB/VHS Oberhausen  Tel. 0208 825-2830 ode
 r Mail info@aul-oberhausen.de\nEigene Anreise und Teilnehmerbetrag 5\,00 E
 uro.
CATEGORIES:Ausflüge und Exkursionen
LOCATION:Sozialrathaus\, Essener Str. 53\, Oberhausen\, Deutschland
GEO:51.487329;6.870749
X-APPLE-STRUCTURED-LOCATION;VALUE=URI;X-ADDRESS=Essener Str. 53\, Oberhause
 n\, Deutschland;X-APPLE-RADIUS=100;X-TITLE=Sozialrathaus:geo:51.487329,6.8
 70749
END:VEVENT
BEGIN:VTIMEZONE
TZID:Europe/Berlin
X-LIC-LOCATION:Europe/Berlin
BEGIN:DAYLIGHT
DTSTART:20220327T030000
TZOFFSETFROM:+0100
TZOFFSETTO:+0200
TZNAME:CEST
END:DAYLIGHT
END:VTIMEZONE
END:VCALENDAR