BEGIN:VCALENDAR
VERSION:2.0
PRODID:-//wp-events-plugin.com//6.6.3//EN
TZID:Europe/Berlin
X-WR-TIMEZONE:Europe/Berlin
BEGIN:VEVENT
UID:0-1347@unser-quartier.de
DTSTART;TZID=Europe/Berlin;VALUE=DATE:20200424
DTEND;TZID=Europe/Berlin;VALUE=DATE:20200425
DTSTAMP:20200129T103847Z
URL:https://unser-quartier.de/ottelau-in-herford/events/drk-tagesfahrt-pet
 ers-schokowelt-lippstadt/
SUMMARY:DRK-Tagesfahrt PETERS Schokowelt Lippstadt
DESCRIPTION:Am Freitag\, den 24. April fährt das DRK-Mehrgenerationenhaus 
 nach Lippstadt. \n
END:VEVENT
BEGIN:VTIMEZONE
TZID:Europe/Berlin
X-LIC-LOCATION:Europe/Berlin
BEGIN:DAYLIGHT
DTSTART:20200329T030000
TZOFFSETFROM:+0100
TZOFFSETTO:+0200
TZNAME:CEST
END:DAYLIGHT
END:VTIMEZONE
END:VCALENDAR