BEGIN:VCALENDAR
VERSION:2.0
PRODID:-//wp-events-plugin.com//6.6.3//EN
TZID:Europe/Berlin
X-WR-TIMEZONE:Europe/Berlin
BEGIN:VEVENT
UID:0-1346@unser-quartier.de
DTSTART;TZID=Europe/Berlin;VALUE=DATE:20200320
DTEND;TZID=Europe/Berlin;VALUE=DATE:20200321
DTSTAMP:20200129T103005Z
URL:https://unser-quartier.de/ottelau-in-herford/events/drk-tagesfahrt-pic
 kertessen-im-tannenhof-grottendiek/
SUMMARY:DRK-Tagesfahrt Pickertessen im Tannenhof Grottendiek
DESCRIPTION:Am  Freitag\, den 20. März fährt das DRK-Mehrgenerationenhau
 s nach Melle zum Tannenhof Grottendiek.\n
END:VEVENT
BEGIN:VTIMEZONE
TZID:Europe/Berlin
X-LIC-LOCATION:Europe/Berlin
BEGIN:STANDARD
DTSTART:20191027T020000
TZOFFSETFROM:+0200
TZOFFSETTO:+0100
TZNAME:CET
END:STANDARD
END:VTIMEZONE
END:VCALENDAR