BEGIN:VCALENDAR
VERSION:2.0
PRODID:-//wp-events-plugin.com//6.6.3//EN
TZID:Europe/Berlin
X-WR-TIMEZONE:Europe/Berlin
BEGIN:VEVENT
UID:0-1348@unser-quartier.de
DTSTART;TZID=Europe/Berlin;VALUE=DATE:20200522
DTEND;TZID=Europe/Berlin;VALUE=DATE:20200523
DTSTAMP:20200129T105646Z
URL:https://unser-quartier.de/ottelau-in-herford/events/drk-tagesfahrt-spa
 rgelessen-spargelhof-thiermann/
SUMMARY:DRK-Tagesfahrt Spargelessen Spargelhof Thiermann
DESCRIPTION:Am Freitag\, den 22.05.2020 fährt das Mehrgenerationenhaus des
  DRK Herford-Stadt in die Kirchdorfer Heide  zum Spargelhof Thiermann.\n
END:VEVENT
BEGIN:VTIMEZONE
TZID:Europe/Berlin
X-LIC-LOCATION:Europe/Berlin
BEGIN:DAYLIGHT
DTSTART:20200329T030000
TZOFFSETFROM:+0100
TZOFFSETTO:+0200
TZNAME:CEST
END:DAYLIGHT
END:VTIMEZONE
END:VCALENDAR