BEGIN:VCALENDAR
VERSION:2.0
PRODID:-//wp-events-plugin.com//6.6.3//EN
TZID:Europe/Berlin
X-WR-TIMEZONE:Europe/Berlin
BEGIN:VEVENT
UID:0-1263@unser-quartier.de
DTSTART;TZID=Europe/Berlin:20200429T090000
DTEND;TZID=Europe/Berlin:20200429T110000
DTSTAMP:20191216T112556Z
URL:https://unser-quartier.de/ottelau-in-herford/events/quartiersfruehstue
 ck-2020-04-29/
SUMMARY:Quartiersfrühstück
DESCRIPTION:Jeden Mittwoch findet im Mehrgenerationenhaus „Alte Schule Ot
 telau“ ein Frühstücksbuffet für die Bewohner der Ottelau statt.\n
CATEGORIES:MGH "Alte Schule Ottelau"
LOCATION:Mehrgenerationenhaus\, Marienburger Straße 10\, Herford\, 32049\,
  Deutschland
GEO:52.1341494;8.680892500000027
X-APPLE-STRUCTURED-LOCATION;VALUE=URI;X-ADDRESS=Marienburger Straße 10\, H
 erford\, 32049\, Deutschland;X-APPLE-RADIUS=100;X-TITLE=Mehrgenerationenha
 us:geo:52.1341494,8.680892500000027
END:VEVENT
BEGIN:VTIMEZONE
TZID:Europe/Berlin
X-LIC-LOCATION:Europe/Berlin
BEGIN:DAYLIGHT
DTSTART:20200329T030000
TZOFFSETFROM:+0100
TZOFFSETTO:+0200
TZNAME:CEST
END:DAYLIGHT
END:VTIMEZONE
END:VCALENDAR